BEGIN:VCALENDAR
PRODID:-//eluceo/ical//2.0/EN
VERSION:2.0
CALSCALE:GREGORIAN
BEGIN:VEVENT
UID:ebdc10f0dd035ad4fdad570376e76d5c
DTSTAMP:20260425T163106Z
SUMMARY:May Day Holiday (no school)
DESCRIPTION:
DTSTART;VALUE=DATE:20260429
END:VEVENT
END:VCALENDAR
