BEGIN:VCALENDAR
PRODID:-//eluceo/ical//2.0/EN
VERSION:2.0
CALSCALE:GREGORIAN
BEGIN:VEVENT
UID:986ee47337907d9a20e79b688d1838ec
DTSTAMP:20260423T152443Z
SUMMARY:MS Science Fair
DESCRIPTION:
DTSTART;VALUE=DATE:20260428
END:VEVENT
END:VCALENDAR
