BEGIN:VCALENDAR
PRODID:-//eluceo/ical//2.0/EN
VERSION:2.0
CALSCALE:GREGORIAN
BEGIN:VEVENT
UID:087c32a9b954709abf8f22f1c03e924d
DTSTAMP:20260421T162111Z
SUMMARY:LifePlus MS Basketball Tournament (Wuhan)
DESCRIPTION:
DTSTART;VALUE=DATE:20260422
DTEND;VALUE=DATE:20260425
END:VEVENT
END:VCALENDAR
