BEGIN:VCALENDAR
PRODID:-//eluceo/ical//2.0/EN
VERSION:2.0
CALSCALE:GREGORIAN
BEGIN:VEVENT
UID:94c015923a49ece5180912b6701402dd
DTSTAMP:20260423T161021Z
SUMMARY:ECC / ES Donuts with Dad
DESCRIPTION:
DTSTART;VALUE=DATE:20260423
END:VEVENT
END:VCALENDAR
